BEGIN:VCALENDAR
VERSION:2.0
PRODID:-//L&#039;Entrepot&#039; de Maubray - ECPv6.15.17//NONSGML v1.0//EN
CALSCALE:GREGORIAN
METHOD:PUBLISH
X-WR-CALNAME:L&#039;Entrepot&#039; de Maubray
X-ORIGINAL-URL:https://www.lentrepotdemaubray.be
X-WR-CALDESC:Évènements pour L&#039;Entrepot&#039; de Maubray
REFRESH-INTERVAL;VALUE=DURATION:PT1H
X-Robots-Tag:noindex
X-PUBLISHED-TTL:PT1H
BEGIN:VTIMEZONE
TZID:Europe/Brussels
BEGIN:DAYLIGHT
TZOFFSETFROM:+0100
TZOFFSETTO:+0200
TZNAME:CEST
DTSTART:20220327T010000
END:DAYLIGHT
BEGIN:STANDARD
TZOFFSETFROM:+0200
TZOFFSETTO:+0100
TZNAME:CET
DTSTART:20221030T010000
END:STANDARD
BEGIN:DAYLIGHT
TZOFFSETFROM:+0100
TZOFFSETTO:+0200
TZNAME:CEST
DTSTART:20230326T010000
END:DAYLIGHT
BEGIN:STANDARD
TZOFFSETFROM:+0200
TZOFFSETTO:+0100
TZNAME:CET
DTSTART:20231029T010000
END:STANDARD
BEGIN:DAYLIGHT
TZOFFSETFROM:+0100
TZOFFSETTO:+0200
TZNAME:CEST
DTSTART:20240331T010000
END:DAYLIGHT
BEGIN:STANDARD
TZOFFSETFROM:+0200
TZOFFSETTO:+0100
TZNAME:CET
DTSTART:20241027T010000
END:STANDARD
END:VTIMEZONE
BEGIN:VEVENT
DTSTART;TZID=Europe/Brussels:20231015T103000
DTEND;TZID=Europe/Brussels:20231015T190000
DTSTAMP:20260420T023508
CREATED:20230921T074818Z
LAST-MODIFIED:20230921T075651Z
UID:1054-1697365800-1697396400@www.lentrepotdemaubray.be
SUMMARY:Papote à Maubray avec La Mob'raisienne
DESCRIPTION:Rencontres inspirantes et échanges\, marché des producteurs et assiettes locales\, ateliers zéro déchet et DIY mais surtout musiques insolites rythmeront cette journée. Et bien sûr\, pour se désaltérer et papoter : un bar ! \nPlus d’infos sur le site de la Mob’raisienne
URL:https://www.lentrepotdemaubray.be/event/papote-a-maubray-2023/
LOCATION:Plaine de jeux de Maubray\, Rue du Marais\, Maubray\, Belgique
ATTACH;FMTTYPE=image/jpeg:https://www.lentrepotdemaubray.be/wp-content/uploads/2023/09/Affiche-A5.jpg
END:VEVENT
END:VCALENDAR